BEGIN:VCALENDAR
VERSION:2.0
PRODID:-//eventon.com NONSGML v1.0//EN
CALSCALE:GREGORIAN
METHOD:PUBLISH
BEGIN:VEVENT
UID:69ea48e54e23f
DTSTAMP:20260423T162925Z
DTSTART:20260424T000000Z
DTEND:20260424T035900Z
LOCATION:The Barrelhouse Ballroom 1501 LONG ST. CHATTANOOGA\,  TN 37408
SUMMARY:Penelope Road
DESCRIPTION:Doors at 7:00 pm | Show at 8:00 pm • $22 Advance | $27 DOS | 
 21+ Penelope Road is here to bring real performance back. It’s a goal as 
 easy to grasp and slyly ambitious as the Atlanta soul-poppers’ music\,  a
 nd that mission is playing out live to the[..]\nhttps://www.nooganightlife.
 com/events/penelope-road/
URL:https://www.nooganightlife.com/events/penelope-road/
END:VEVENT
END:VCALENDAR