BEGIN:VCALENDAR
VERSION:2.0
PRODID:-//eventon.com NONSGML v1.0//EN
CALSCALE:GREGORIAN
METHOD:PUBLISH
BEGIN:VEVENT
UID:69ea45c4bd64b
DTSTAMP:20260423T161604Z
DTSTART:20260816T000000Z
DTEND:20260816T035900Z
LOCATION:The Barrelhouse Ballroom 1501 LONG ST. CHATTANOOGA\,  TN 37408
SUMMARY:ALT ROCK FEST
DESCRIPTION:Doors at 7:00 pm | Show at 8:00 pm • $30 Advance | $35 DOS | 
 21+\nhttps://www.nooganightlife.com/events/alt-rock-fest/
URL:https://www.nooganightlife.com/events/alt-rock-fest/
END:VEVENT
END:VCALENDAR