BEGIN:VCALENDAR
VERSION:2.0
PRODID:-//eventon.com NONSGML v1.0//EN
CALSCALE:GREGORIAN
METHOD:PUBLISH
BEGIN:VEVENT
UID:69ea4556bd78c
DTSTAMP:20260423T161414Z
DTSTART:20260426T000000Z
DTEND:20260426T035900Z
LOCATION:The Barrelhouse Ballroom 1501 LONG ST. CHATTANOOGA\,  TN 37408
SUMMARY:Brenn! The Warmup Tour with Hudson Ingram
DESCRIPTION:Doors at 7:00 pm | Show at 8:00 pm • $23 Advance | $27 DOS | 
 18+ Brenn! grew up in Tuscaloosa\,  Alabama\,  where rolling green acres an
 d rich Southern history shape his cathartic\,  jangling folk-pop sound. Tho
 ugh barely out of his teens\,  Brennan Keller blends classic folk storytell
 ing with[..]\nhttps://www.nooganightlife.com/events/brenn-the-warmup-tour-w
 ith-hudson-ingram/
URL:https://www.nooganightlife.com/events/brenn-the-warmup-tour-with-hudson-ingram/
END:VEVENT
END:VCALENDAR