BEGIN:VCALENDAR
VERSION:2.0
PRODID:-//eventon.com NONSGML v1.0//EN
CALSCALE:GREGORIAN
METHOD:PUBLISH
BEGIN:VEVENT
UID:69ea49fd409e5
DTSTAMP:20260423T163405Z
DTSTART:20260502T000000Z
DTEND:20260502T035900Z
LOCATION:The Barrelhouse Ballroom 1501 LONG ST. CHATTANOOGA\,  TN 37408
SUMMARY:The Wailers - 50 Years of Positive Vibrations with Nattie Love Joys
DESCRIPTION:Doors at 7:00 pm | Show at 8:00 pm • $25 Advance | $30 DOS | 
 21+ In 2026\,  The Wailers celebrate the 50th anniversary of Rastaman Vibra
 tion\,  one of Bob Marley &amp; The Wailers’ most influential albums. The
  50 Years of Positive Vibrations tour honors this landmark release with[..]
 \nhttps://www.nooganightlife.com/events/the-wailers-50-years-of-positive-vi
 brations-with-nattie-love-joys/
URL:https://www.nooganightlife.com/events/the-wailers-50-years-of-positive-vibrations-with-nattie-love-joys/
END:VEVENT
END:VCALENDAR