BEGIN:VCALENDAR
VERSION:2.0
PRODID:-//eventon.com NONSGML v1.0//EN
CALSCALE:GREGORIAN
METHOD:PUBLISH
BEGIN:VEVENT
UID:69ea47877ead5
DTSTAMP:20260423T162335Z
DTSTART:20260510T003000Z
DTEND:20260510T035900Z
LOCATION:The Barrelhouse Ballroom 1501 LONG ST. CHATTANOOGA\,  TN 37408
SUMMARY:HOLYWATR
DESCRIPTION:Doors at 7:30 pm | Show at 8:30 pm • $25 Advance | $30 DOS | 
 18+ Holywatr is a unique\,  gritty blend of alternative metal\,  emo\,  and
  metalcore\,  forging a new path that transcends genres and leaves audience
 s begging for more. Fresh off tours with Architects\,  Chiodos\,  Warped To
 ur\, [..]\nhttps://www.nooganightlife.com/events/holywatr/
URL:https://www.nooganightlife.com/events/holywatr/
END:VEVENT
END:VCALENDAR