BEGIN:VCALENDAR
VERSION:2.0
PRODID:-//eventon.com NONSGML v1.0//EN
CALSCALE:GREGORIAN
METHOD:PUBLISH
BEGIN:VEVENT
UID:69ea451d950e9
DTSTAMP:20260423T161317Z
DTSTART:20260610T000000Z
DTEND:20260610T035900Z
LOCATION:The Barrelhouse Ballroom 1501 LONG ST. CHATTANOOGA\,  TN 37408
SUMMARY:Lansdowne with Trackside
DESCRIPTION:Doors at 6:00 pm | Show at 8:00 pm • $15 Advance | $20 DOS | 
 18+ For years\,  Lansdowne has been a mainstay in the global rock scene\,  
 bringing their high-energy live show to fans around the world. Known for th
 eir infectious hooks\,  powerful vocals\,  and dynamic blend of[..]\nhttps:
 //www.nooganightlife.com/events/lansdowne-with-trackside/
URL:https://www.nooganightlife.com/events/lansdowne-with-trackside/
END:VEVENT
END:VCALENDAR